BEGIN:VCALENDAR
VERSION:2.0
PRODID:-//Oenofeel
CALSCALE:GREGORIAN
METHOD:PUBLISH
X-WR-CALNAME:Oenofeel
X-ORIGINAL-URL:https://oenofeel.com/produit/vin-champignon-2/
X-WR-CALDESC:Vin &#038; Champignon
BEGIN:VEVENT
DTSTART;TZID=Europe/Paris:20261014T183000
DTEND;TZID=Europe/Paris:20261014T200000
SUMMARY:Vin & Champignon
DESCRIPTION:La saison des champignons est arrivée ! Participez à une dégustation de vin originale et rythmée. Une soirée festive dans une ambiance bar à vin. Le rendez-vous mensuel qui fait du bien 🥰
URL:https://oenofeel.com/produit/vin-champignon-2/
LOCATION:
END:VEVENT
END:VCALENDAR
