BEGIN:VCALENDAR
VERSION:2.0
PRODID:-//Oenofeel
CALSCALE:GREGORIAN
METHOD:PUBLISH
X-WR-CALNAME:Oenofeel
X-ORIGINAL-URL:https://oenofeel.com/produit/a-poils-a-plumes-2/
X-WR-CALDESC:A poils &#038; à plumes
BEGIN:VEVENT
DTSTART;TZID=Europe/Paris:20261104T183000
DTEND;TZID=Europe/Paris:20261104T200000
SUMMARY:A poils & à plumes
DESCRIPTION:La chasse est ouverte ! Participez à une dégustation de vin originale et rythmée. Une soirée festive dans une ambiance bar à vin. Le rendez-vous mensuel qui fait du bien 🥰
URL:https://oenofeel.com/produit/a-poils-a-plumes-2/
LOCATION:
END:VEVENT
END:VCALENDAR
