BEGIN:VCALENDAR
VERSION:2.0
PRODID:-//Oenofeel
CALSCALE:GREGORIAN
METHOD:PUBLISH
X-WR-CALNAME:Oenofeel
X-ORIGINAL-URL:https://oenofeel.com/produit/whisky-du-monde-21/
X-WR-CALDESC:Whisky du Monde
BEGIN:VEVENT
DTSTART;TZID=Europe/Paris:20260613T163000
DTEND;TZID=Europe/Paris:20260613T183000
SUMMARY:Whisky du Monde
DESCRIPTION:Apprenez à déguster des whiskies aux origines et terroirs uniques 🥃 L'atelier idéal pour en savoir plus sur ce spiritueux de légende grâce à notre sélection de whisky du monde. Un moment de partage et de dégustation prestigieuse pour découvrir les secrets de ces spiritueux incontournables. 
URL:https://oenofeel.com/produit/whisky-du-monde-21/
LOCATION:7 rue Ballainvilliers, Clermont-Ferrand
END:VEVENT
END:VCALENDAR
