BEGIN:VCALENDAR
VERSION:2.0
PRODID:-//Oenofeel
CALSCALE:GREGORIAN
METHOD:PUBLISH
X-WR-CALNAME:Oenofeel
X-ORIGINAL-URL:https://oenofeel.com/produit/initiation-159/
X-WR-CALDESC:Initiation
BEGIN:VEVENT
DTSTART;TZID=Europe/Paris:20260603T183000
DTEND;TZID=Europe/Paris:20260603T203000
SUMMARY:Initiation
DESCRIPTION:Un atelier ludique et convivial pour découvrir les secrets du vin et s'initier aux techniques et au vocabulaire de dégustation. Un moment pédagogique qui s'adresse à tous 🍷 Venez à plusieurs et profitez de nos offres remisées, en Duo, Trio et Quatro :)
URL:https://oenofeel.com/produit/initiation-159/
LOCATION:7 rue Ballainvilliers, Clermont-Ferrand
END:VEVENT
END:VCALENDAR
